BEGIN:VCALENDAR
VERSION:2.0
PRODID:-//ChamberMaster//Event Calendar 2.0//EN
METHOD:PUBLISH
X-PUBLISHED-TTL:P3D
REFRESH-INTERVAL:P3D
CALSCALE:GREGORIAN
BEGIN:VEVENT
DTSTART:20250602T170000Z
DTEND:20250602T180000Z
X-MICROSOFT-CDO-ALLDAYEVENT:FALSE
SUMMARY:SVCOA Community Input Session
DESCRIPTION:The Southwestern Vermont Council on Aging (SVCOA) is inviting community members to review and provide feedback on its Draft Area Plan for Federal Fiscal Years 2026 2029\, which outlines the organization's goals\, strategies\, and programs for supporting older Vermonters in Rutland and Bennington counties over the next four years. As part of the federally mandated planning process\, SVCOA is seeking input from a wide variety of individuals and organizations\, including current and prospective service recipients\, caregivers\, professionals\, and community stakeholders\, to ensure the plan reflects the true needs of the region's aging population.
X-ALT-DESC;FMTTYPE=text/html:The Southwestern Vermont Council on Aging (SVCOA) is inviting community members to review and provide feedback on its Draft Area Plan for Federal Fiscal Years 2026&ndash\;2029\, which outlines the organization&rsquo\;s goals\, strategies\, and programs for supporting older Vermonters in Rutland and Bennington counties over the next four years. As part of the federally mandated planning process\, SVCOA is seeking input from a wide variety of individuals and organizations\, including current and prospective service recipients\, caregivers\, professionals\, and community stakeholders\, to ensure the plan reflects the true needs of the region&rsquo\;s aging population.
LOCATION:SVCOA Main Office\, 143 Maple St\, Rutland\, VT 05701
UID:e.3464.9504
SEQUENCE:3
DTSTAMP:20260421T131959Z
URL:https://members.rutlandvermont.com/events/details/svcoa-community-input-session-9504
END:VEVENT

END:VCALENDAR
