BEGIN:VCALENDAR
VERSION:2.0
PRODID:-//ChamberMaster//Event Calendar 2.0//EN
METHOD:PUBLISH
X-PUBLISHED-TTL:P3D
REFRESH-INTERVAL:P3D
CALSCALE:GREGORIAN
BEGIN:VEVENT
DTSTART:20250718T193000Z
DTEND:20250718T203000Z
X-MICROSOFT-CDO-ALLDAYEVENT:FALSE
SUMMARY:Teddy Tea party at Loose Luna
DESCRIPTION:Put on your best tea party outfit\, grab a stuffed animal friend\, and join Miss Amanda at Loose Loona for a Teddy Tea Party!\n\nSettle in for a classic tea party while we read a story or two and do a craft. Loose Loona will provide us with both a hot tea and an iced tea to try.\n\nAges 3-7\n\nRegistration is required as space is limited to meet the health code at Loose Loona. All adults and children must be registered.\n\nRegistration occurs on our website calendar: https://rutlandfree.assabetinteractive.com/.../teddy-tea.../\n\n**Registration will close on Monday\, June 16.\n\nLoose Loona is located at 11 Center Street\, Rutland\, VT.
X-ALT-DESC;FMTTYPE=text/html:Put on your best tea party outfit\, grab a stuffed animal friend\, and join Miss Amanda at Loose Loona for a Teddy Tea Party!<br />\nSettle in for a classic tea party while we read a story or two and do a craft. Loose Loona will provide us with both a hot tea and an iced tea to try.<br />\nAges 3-7<br />\nRegistration is required as space is limited to meet the health code at Loose Loona. All adults and children must be registered.<br />\nRegistration occurs on our website calendar:&nbsp\;<a href="https://rutlandfree.assabetinteractive.com/calendar/teddy-tea-party-at-loose-loona/?fbclid=IwZXh0bgNhZW0CMTAAYnJpZBExYzNVUGFvQXE1dUswc3NTbwEeSqwDtvYsZItANl77AZsIvnFURHB8wPoEX-lB1lPuSU4Y7x63qyLIUbyE358_aem_-1y446KP7kHJQaSynt5TBw" target="_blank"><strong>https://rutlandfree.assabetinteractive.com/.../teddy-tea.../</strong></a><br />\n**Registration will close on Monday\, June 16.<br />\nLoose Loona is located at 11 Center Street\, Rutland\, VT.&nbsp\;<br />\n&nbsp\;
LOCATION:
UID:e.3464.11708
SEQUENCE:3
DTSTAMP:20260421T120545Z
URL:https://members.rutlandvermont.com/events/details/teddy-tea-party-at-loose-luna-11708
END:VEVENT

END:VCALENDAR
