BEGIN:VCALENDAR
VERSION:2.0
PRODID:-//ChamberMaster//Event Calendar 2.0//EN
METHOD:PUBLISH
X-PUBLISHED-TTL:P3D
REFRESH-INTERVAL:P3D
CALSCALE:GREGORIAN
BEGIN:VEVENT
DTSTART:20250624T213000Z
DTEND:20250625T000000Z
X-MICROSOFT-CDO-ALLDAYEVENT:FALSE
SUMMARY:Teen Movie Night (ages 12-18)
DESCRIPTION:Teen Movie Night with popcorn\, snacks\, and pizza! Teens will vote on four movies: Jungle Cruise\, Jumanji: Welcome to the Jungle\, Hunger Games: Ballad of Songbirds and Snakes\, and Love & Monsters.\n\n \n\nNe registration required. For ages 12-18.
X-ALT-DESC;FMTTYPE=text/html:<p style="margin: 0px 0px 1em\; padding: 0px\; box-sizing: border-box\; line-height: 1.5\; color: rgb(0\, 0\, 0)\; font-family: georgia\; font-size: 16px\;">Teen Movie Night with popcorn\, snacks\, and pizza! Teens will vote on four movies: Jungle Cruise\, Jumanji: Welcome to the Jungle\, Hunger Games: Ballad of Songbirds and Snakes\, and Love &amp\; Monsters.</p>\n\n<p style="margin: 0px 0px 1em\; padding: 0px\; box-sizing: border-box\; line-height: 1.5\; color: rgb(0\, 0\, 0)\; font-family: georgia\; font-size: 16px\;">&nbsp\;</p>\n\n<p style="margin: 0px 0px 1em\; padding: 0px\; box-sizing: border-box\; line-height: 1.5\; color: rgb(0\, 0\, 0)\; font-family: georgia\; font-size: 16px\;">Ne registration required. For ages 12-18.</p>\n
LOCATION:Fox Room Rutland Free Library10 Court St \, Rutland \, VT\, 05701
UID:e.3464.10091
SEQUENCE:3
DTSTAMP:20260421T132708Z
URL:https://members.rutlandvermont.com/events/details/teen-movie-night-ages-12-18-10091
END:VEVENT

END:VCALENDAR
