BEGIN:VCALENDAR
VERSION:2.0
PRODID:-//ChamberMaster//Event Calendar 2.0//EN
METHOD:PUBLISH
X-PUBLISHED-TTL:P3D
REFRESH-INTERVAL:P3D
CALSCALE:GREGORIAN
BEGIN:VEVENT
DTSTART:20211201T223000Z
DTEND:20211202T000000Z
X-MICROSOFT-CDO-ALLDAYEVENT:FALSE
SUMMARY:The Art of Bow Making
DESCRIPTION:Learn how to make beautiful bows for your holiday decorating\, gifts and more.\n\nThe first bow ribbon has been donated by Mr. Twitters Garden & Gifts. If you would like to purchase additional ribbon\, it will be available at the workshop.\n\nSupplies needed: Please bring a pair of needle nose pliers (that has a wire cutter) and a sharp pair of scissors\n\nInstructor: Julia Quimby Cohen\n\nMin 5\n\nFee: $20 per person\n\nMUST RSVP BY NOVEMBER 29TH
X-ALT-DESC;FMTTYPE=text/html:Learn how to make beautiful bows for your holiday decorating\, gifts and more.<br />\nThe first bow ribbon has been donated by Mr. Twitters Garden &amp\; Gifts. If you would like to purchase additional ribbon\, it will be available at the workshop.<br />\nSupplies needed: Please bring a pair of needle nose pliers (that has a wire cutter) and a sharp pair of scissors<br />\nInstructor: Julia Quimby Cohen<br />\nMin 5<br />\nFee: $20 per person<br />\nMUST RSVP BY NOVEMBER 29TH
LOCATION:Must pre-register Masks required Chaffee Art Center\, 16 South Main St.\, Rutland
UID:e.3464.5441
SEQUENCE:3
DTSTAMP:20260421T175608Z
URL:https://members.rutlandvermont.com/events/details/the-art-of-bow-making-5441
END:VEVENT

END:VCALENDAR
