BEGIN:VCALENDAR
VERSION:2.0
PRODID:-//ChamberMaster//Event Calendar 2.0//EN
METHOD:PUBLISH
X-PUBLISHED-TTL:P3D
REFRESH-INTERVAL:P3D
CALSCALE:GREGORIAN
BEGIN:VEVENT
DTSTART:20250621T140000Z
DTEND:20250621T180000Z
X-MICROSOFT-CDO-ALLDAYEVENT:FALSE
SUMMARY:The Fly Dogs-Dock Diving Event
DESCRIPTION:Check this out!! FLOD is honored to partner with The Fly Dogs for their annual Dock Dive Event. Featuring Big Air\, Speed Swim and Big Air Catch-It events throughout the day. Amazing raffle items\, all proceeds benefit FLOD. Hangry Hogg Food Truck to keep your bellies happy!!
X-ALT-DESC;FMTTYPE=text/html:Check this out!! FLOD is honored to partner with The Fly Dogs for their annual Dock Dive Event. Featuring Big Air\, Speed Swim and Big Air Catch-It events throughout the day. Amazing raffle items\, all proceeds benefit FLOD. Hangry Hogg Food Truck to keep your bellies happy!!
LOCATION:111 Prospect Point Rd Bomoseen\, VT 05732
UID:e.3464.10463
SEQUENCE:3
DTSTAMP:20260421T132232Z
URL:https://members.rutlandvermont.com/events/details/the-fly-dogs-dock-diving-event-10463
END:VEVENT

END:VCALENDAR
