BEGIN:VCALENDAR
VERSION:2.0
PRODID:-//ChamberMaster//Event Calendar 2.0//EN
METHOD:PUBLISH
X-PUBLISHED-TTL:P3D
REFRESH-INTERVAL:P3D
CALSCALE:GREGORIAN
BEGIN:VEVENT
DTSTART:20250628T140000Z
DTEND:20250628T150000Z
X-MICROSOFT-CDO-ALLDAYEVENT:FALSE
SUMMARY:The Poop Museum
DESCRIPTION:The Poop Museum is the place to come for those who are curious and have questions about poop\, and also\, if like Susie Maguire\, they LOVE poop\, and think it's fascinating!\n\nSusie is a poop expert who thinks poop is THE most interesting subject in the world. She has studied poop for years and loves nothing more than sharing her expansive knowledge of poop with the people of the world.\n\nAt The Poop Museum\, everyone learns many fantastic\, fabulous and fun facts about human\, animal and insect poop\, many of which truly amaze and surprise.\n\nJust a few of the poopers that visitors to the Poop Museum will meet\, include:\n\n- The world's messiest pooper\n\n- The animal that has poop attack powers\n\n- The animal that uses poop as protection\n\n- The rainbow pooper\n\n- The animal that has to hold its poop ALL winter long\n\nAt The Poop Museum\, everyone learns A LOT\, and some of the facts that are shared are mind blowing! But The Poop Museum is also full of laughter ... because ... well ... our subject is poop and Susie has found a wonderful way to blend solid science\, with the hilarity that humans love\, when it comes to poop.\n\n\n\nNo Registration Required
X-ALT-DESC;FMTTYPE=text/html:<div class="event-description wysiwyg cf" style="margin: 0px 0px 1em\; padding: 0px\; box-sizing: border-box\; zoom: 1\; line-height: 1.5\; position: relative\; font-family: georgia\; color: rgb(0\, 0\, 0)\; font-size: 16px\;">\n<p style="margin: 0px 0px 1em\; padding: 0px\; box-sizing: border-box\; line-height: 1.5\;">The Poop Museum is the place to come for those who are curious and have questions about poop\, and also\, if like Susie Maguire\, they LOVE poop\, and think it&rsquo\;s fascinating!</p>\n\n<p style="margin: 0px 0px 1em\; padding: 0px\; box-sizing: border-box\; line-height: 1.5\;">Susie is a poop expert who thinks poop is THE most interesting subject in the world. She has studied poop for years and loves nothing more than sharing her expansive knowledge of poop with the people of the world.</p>\n\n<p style="margin: 0px 0px 1em\; padding: 0px\; box-sizing: border-box\; line-height: 1.5\;">At The Poop Museum\, everyone learns many fantastic\, fabulous and fun facts about human\, animal and insect poop\, many of which truly amaze and surprise.</p>\n\n<p style="margin: 0px 0px 1em\; padding: 0px\; box-sizing: border-box\; line-height: 1.5\;">Just a few of the poopers that visitors to the Poop Museum will meet\, include:<br style="margin: 0px\; padding: 0px\; box-sizing: border-box\;" />\n- The world&rsquo\;s messiest pooper<br style="margin: 0px\; padding: 0px\; box-sizing: border-box\;" />\n- The animal that has poop attack powers<br style="margin: 0px\; padding: 0px\; box-sizing: border-box\;" />\n- The animal that uses poop as protection<br style="margin: 0px\; padding: 0px\; box-sizing: border-box\;" />\n- The rainbow pooper<br style="margin: 0px\; padding: 0px\; box-sizing: border-box\;" />\n- The animal that has to hold its poop ALL winter long</p>\n\n<p style="margin: 0px 0px 1em\; padding: 0px\; box-sizing: border-box\; line-height: 1.5\;">At The Poop Museum\, everyone learns A LOT\, and some of the facts that are shared are mind blowing! But The Poop Museum is also full of laughter ... because ... well ... our subject is poop and Susie has found a wonderful way to blend solid science\, with the hilarity that humans love\, when it comes to poop.</p>\n</div>\n\n<div class="event-registration-information" style="margin: 0px\; padding: 1em 0px\; box-sizing: border-box\; border-top: 1px solid rgb(209\, 211\, 212)\; color: rgb(0\, 0\, 0)\; font-family: &quot\;Source Sans 3&quot\;\, tahoma\, arial\, sans-serif\; font-size: 16px\;">\n<p class="event-registration-not-required" style="margin: 0px 0px 1em\; padding: 0px\; box-sizing: border-box\; line-height: 1.5\;">No Registration Required</p>\n</div>\n
LOCATION:Fox Room Rutland Free Library10 Court St \, Rutland \, VT\, 05701
UID:e.3464.10094
SEQUENCE:3
DTSTAMP:20260421T132147Z
URL:https://members.rutlandvermont.com/events/details/the-poop-museum-10094
END:VEVENT

END:VCALENDAR
