BEGIN:VCALENDAR
VERSION:2.0
PRODID:-//ChamberMaster//Event Calendar 2.0//EN
METHOD:PUBLISH
X-PUBLISHED-TTL:P3D
REFRESH-INTERVAL:P3D
CALSCALE:GREGORIAN
BEGIN:VEVENT
DTSTART:20250812T153000Z
DTEND:20250812T173000Z
X-MICROSOFT-CDO-ALLDAYEVENT:FALSE
SUMMARY:Touch Grass Tuesdays
DESCRIPTION:Come hang out\, eat your lunch\, or do absolutely nothing except put your toes in the grass (or not we don't judge). Touch Grass Tuesday is a casual weekly gathering on the library lawn meant to help us all slow down\, reconnect\, and enjoy being outside together.\n\n\n\nThis event is made possible by Rutland Restorative Justice Center\, the Rutland Free Library and Come Alive Outside.\n\n\n\n  Why bother?\n\nScience says touching grass literally helps:\n\n\n\nLower stress and anxiety\n\n\n\nImprove mood and focus\n\n\n\nRegulate your nervous system\n\n\n\nBoost creativity and immune function\n\n\n\nMake you feel more connected (to the earth and your neighbors)\n\n\n\nWhether you stay for five minutes or the whole two hours\, you're welcome. Come solo\, bring a friend\, or just wander by and wave.
X-ALT-DESC;FMTTYPE=text/html:<span style="color: rgb(110\, 111\, 115)\; font-family: Inter\, &quot\;Helvetica Neue&quot\;\, Helvetica\, Arial\, sans-serif\; font-size: 16px\;">Come hang out\, eat your lunch\, or do absolutely nothing except put your toes in the grass (or not&mdash\;we don&rsquo\;t judge). Touch Grass Tuesday is a casual weekly gathering on the library lawn meant to help us all slow down\, reconnect\, and enjoy being outside&mdash\;together.</span><br style="font-family: Inter\, &quot\;Helvetica Neue&quot\;\, Helvetica\, Arial\, sans-serif\; color: rgb(110\, 111\, 115)\; font-size: 16px\;" />\n<br style="font-family: Inter\, &quot\;Helvetica Neue&quot\;\, Helvetica\, Arial\, sans-serif\; color: rgb(110\, 111\, 115)\; font-size: 16px\;" />\n<span style="color: rgb(110\, 111\, 115)\; font-family: Inter\, &quot\;Helvetica Neue&quot\;\, Helvetica\, Arial\, sans-serif\; font-size: 16px\;">This event is made possible by Rutland Restorative Justice Center\, the Rutland Free Library and Come Alive Outside.</span><br style="font-family: Inter\, &quot\;Helvetica Neue&quot\;\, Helvetica\, Arial\, sans-serif\; color: rgb(110\, 111\, 115)\; font-size: 16px\;" />\n<br style="font-family: Inter\, &quot\;Helvetica Neue&quot\;\, Helvetica\, Arial\, sans-serif\; color: rgb(110\, 111\, 115)\; font-size: 16px\;" />\n<span style="color: rgb(110\, 111\, 115)\; font-family: Inter\, &quot\;Helvetica Neue&quot\;\, Helvetica\, Arial\, sans-serif\; font-size: 16px\;">&#127793\; Why bother?</span><br style="font-family: Inter\, &quot\;Helvetica Neue&quot\;\, Helvetica\, Arial\, sans-serif\; color: rgb(110\, 111\, 115)\; font-size: 16px\;" />\n<span style="color: rgb(110\, 111\, 115)\; font-family: Inter\, &quot\;Helvetica Neue&quot\;\, Helvetica\, Arial\, sans-serif\; font-size: 16px\;">Science says touching grass literally helps:</span><br style="font-family: Inter\, &quot\;Helvetica Neue&quot\;\, Helvetica\, Arial\, sans-serif\; color: rgb(110\, 111\, 115)\; font-size: 16px\;" />\n<br style="font-family: Inter\, &quot\;Helvetica Neue&quot\;\, Helvetica\, Arial\, sans-serif\; color: rgb(110\, 111\, 115)\; font-size: 16px\;" />\n<span style="color: rgb(110\, 111\, 115)\; font-family: Inter\, &quot\;Helvetica Neue&quot\;\, Helvetica\, Arial\, sans-serif\; font-size: 16px\;">Lower stress and anxiety</span><br style="font-family: Inter\, &quot\;Helvetica Neue&quot\;\, Helvetica\, Arial\, sans-serif\; color: rgb(110\, 111\, 115)\; font-size: 16px\;" />\n<br style="font-family: Inter\, &quot\;Helvetica Neue&quot\;\, Helvetica\, Arial\, sans-serif\; color: rgb(110\, 111\, 115)\; font-size: 16px\;" />\n<span style="color: rgb(110\, 111\, 115)\; font-family: Inter\, &quot\;Helvetica Neue&quot\;\, Helvetica\, Arial\, sans-serif\; font-size: 16px\;">Improve mood and focus</span><br style="font-family: Inter\, &quot\;Helvetica Neue&quot\;\, Helvetica\, Arial\, sans-serif\; color: rgb(110\, 111\, 115)\; font-size: 16px\;" />\n<br style="font-family: Inter\, &quot\;Helvetica Neue&quot\;\, Helvetica\, Arial\, sans-serif\; color: rgb(110\, 111\, 115)\; font-size: 16px\;" />\n<span style="color: rgb(110\, 111\, 115)\; font-family: Inter\, &quot\;Helvetica Neue&quot\;\, Helvetica\, Arial\, sans-serif\; font-size: 16px\;">Regulate your nervous system</span><br style="font-family: Inter\, &quot\;Helvetica Neue&quot\;\, Helvetica\, Arial\, sans-serif\; color: rgb(110\, 111\, 115)\; font-size: 16px\;" />\n<br style="font-family: Inter\, &quot\;Helvetica Neue&quot\;\, Helvetica\, Arial\, sans-serif\; color: rgb(110\, 111\, 115)\; font-size: 16px\;" />\n<span style="color: rgb(110\, 111\, 115)\; font-family: Inter\, &quot\;Helvetica Neue&quot\;\, Helvetica\, Arial\, sans-serif\; font-size: 16px\;">Boost creativity and immune function</span><br style="font-family: Inter\, &quot\;Helvetica Neue&quot\;\, Helvetica\, Arial\, sans-serif\; color: rgb(110\, 111\, 115)\; font-size: 16px\;" />\n<br style="font-family: Inter\, &quot\;Helvetica Neue&quot\;\, Helvetica\, Arial\, sans-serif\; color: rgb(110\, 111\, 115)\; font-size: 16px\;" />\n<span style="color: rgb(110\, 111\, 115)\; font-family: Inter\, &quot\;Helvetica Neue&quot\;\, Helvetica\, Arial\, sans-serif\; font-size: 16px\;">Make you feel more connected (to the earth and your neighbors)</span><br style="font-family: Inter\, &quot\;Helvetica Neue&quot\;\, Helvetica\, Arial\, sans-serif\; color: rgb(110\, 111\, 115)\; font-size: 16px\;" />\n<br style="font-family: Inter\, &quot\;Helvetica Neue&quot\;\, Helvetica\, Arial\, sans-serif\; color: rgb(110\, 111\, 115)\; font-size: 16px\;" />\n<span style="color: rgb(110\, 111\, 115)\; font-family: Inter\, &quot\;Helvetica Neue&quot\;\, Helvetica\, Arial\, sans-serif\; font-size: 16px\;">Whether you stay for five minutes or the whole two hours\, you&rsquo\;re welcome. Come solo\, bring a friend\, or just wander by and wave.</span>
LOCATION:Rutland Free Library Lawn 10 Court St. Rutland\, VT 05701
UID:e.3464.12083
SEQUENCE:3
DTSTAMP:20260421T132232Z
URL:https://members.rutlandvermont.com/events/details/touch-grass-tuesdays-08-12-2025-12083
END:VEVENT

END:VCALENDAR
