BEGIN:VCALENDAR
VERSION:2.0
PRODID:-//ChamberMaster//Event Calendar 2.0//EN
METHOD:PUBLISH
X-PUBLISHED-TTL:P3D
REFRESH-INTERVAL:P3D
CALSCALE:GREGORIAN
BEGIN:VEVENT
DTSTART:20250823T140000Z
DTEND:20250823T180000Z
X-MICROSOFT-CDO-ALLDAYEVENT:FALSE
SUMMARY:Town Wide Celebration
DESCRIPTION:Join us for our annual Town Wide Celebration!\n\nThis free event will be fun filled day capped off with fireworks at dusk!\n\nCome visit our Town Police\, Fire and Highway Departments.\n\nLunch will be cooked by our Town Selectboard members!\n\nThe pool will be open all day for free swim!\n\nPlay pickle ball\, tennis\, basketball\, disc golf\, hike our trails or mountain bike!
X-ALT-DESC;FMTTYPE=text/html:Join us for our annual Town Wide Celebration!<br />\nThis free event will be fun filled day capped off with fireworks at dusk!<br />\nCome visit our Town Police\, Fire and Highway Departments.<br />\nLunch will be cooked by our Town Selectboard members!<br />\nThe pool will be open all day for free swim!<br />\nPlay pickle ball\, tennis\, basketball\, disc golf\, hike our trails or mountain bike!
LOCATION:195 Northwood Park Rd Rutland\, VT 05701
UID:e.3464.11707
SEQUENCE:3
DTSTAMP:20260421T132135Z
URL:https://members.rutlandvermont.com/events/details/town-wide-celebration-11707
END:VEVENT

END:VCALENDAR
