BEGIN:VCALENDAR
VERSION:2.0
PRODID:-//ChamberMaster//Event Calendar 2.0//EN
METHOD:PUBLISH
X-PUBLISHED-TTL:P3D
REFRESH-INTERVAL:P3D
CALSCALE:GREGORIAN
BEGIN:VEVENT
DTSTART:20250729T220000Z
DTEND:20250730T000000Z
X-MICROSOFT-CDO-ALLDAYEVENT:FALSE
SUMMARY:Tunesday Concert Series
DESCRIPTION:Join us every Tuesday night this summer for our Tunesday concert Series. Open to the public. \n\nFood Truck will be on site.
X-ALT-DESC;FMTTYPE=text/html:Join us every Tuesday night this summer for our Tunesday concert Series. Open to the public.&nbsp\;<br />\nFood Truck will be on site.&nbsp\;
LOCATION:Pittsford Village Farm 42 Elm Street Pittsford\, VT
UID:e.3464.11701
SEQUENCE:3
DTSTAMP:20260421T120807Z
URL:https://members.rutlandvermont.com/events/details/tunesday-concert-series-07-29-2025-11701
END:VEVENT

END:VCALENDAR
