BEGIN:VCALENDAR
VERSION:2.0
PRODID:-//ChamberMaster//Event Calendar 2.0//EN
METHOD:PUBLISH
X-PUBLISHED-TTL:P3D
REFRESH-INTERVAL:P3D
CALSCALE:GREGORIAN
BEGIN:VEVENT
DTSTART:20250805T220000Z
DTEND:20250806T000000Z
X-MICROSOFT-CDO-ALLDAYEVENT:FALSE
SUMMARY:Tunesday Concert Series
DESCRIPTION:Red Clover Jazz Trio\n\nAccomplished variety of jazz!\n\n\n\nJoin us every Tuesday night this summer for our Tunesday concert Series. Open to the public. \n\nFood Truck will be on site.
X-ALT-DESC;FMTTYPE=text/html:Red Clover Jazz Trio<br />\n<em>Accomplished variety of jazz!</em><br />\n<br />\nJoin us every Tuesday night this summer for our Tunesday concert Series. Open to the public.&nbsp\;<br />\nFood Truck will be on site.&nbsp\;
LOCATION:Pittsford Village Farm 42 Elm Street Pittsford\, VT
UID:e.3464.11702
SEQUENCE:3
DTSTAMP:20260421T132514Z
URL:https://members.rutlandvermont.com/events/details/tunesday-concert-series-08-05-2025-11702
END:VEVENT

END:VCALENDAR
