BEGIN:VCALENDAR
VERSION:2.0
PRODID:-//ChamberMaster//Event Calendar 2.0//EN
METHOD:PUBLISH
X-PUBLISHED-TTL:P3D
REFRESH-INTERVAL:P3D
CALSCALE:GREGORIAN
BEGIN:VEVENT
DTSTART:20250627T210000Z
DTEND:20250627T230000Z
X-MICROSOFT-CDO-ALLDAYEVENT:FALSE
SUMMARY:VFW Post 648 Rutland\, Burger Night\, Queen of Hearts Drawing OPEN TO PUBLIC
DESCRIPTION:Burgers or Crispy Chicken Sandwich w/ French Fries $11\, Fried Shimp w/Fries & Cole Slaw $11\, Mozzarella Sticks $5\, Fried Mushrooms $4\, Zucchini Sticks $4 Queen of Hearts drawing at 6pm
X-ALT-DESC;FMTTYPE=text/html:<span style="color: rgb(17\, 24\, 39)\; font-family: ui-sans-serif\, system-ui\, -apple-system\, BlinkMacSystemFont\, &quot\;Segoe UI&quot\;\, Roboto\, &quot\;Helvetica Neue&quot\;\, Arial\, &quot\;Noto Sans&quot\;\, sans-serif\, &quot\;Apple Color Emoji&quot\;\, &quot\;Segoe UI Emoji&quot\;\, &quot\;Segoe UI Symbol&quot\;\, &quot\;Noto Color Emoji&quot\;\; font-size: 16px\; font-weight: 600\;">Burgers or Crispy Chicken Sandwich w/ French Fries $11\, Fried Shimp w/Fries &amp\; Cole Slaw $11\, Mozzarella Sticks $5\, Fried Mushrooms $4\, Zucchini Sticks $4 Queen of Hearts drawing at 6pm</span>
LOCATION:15 Wales Street Rutland 05701
UID:e.3464.9823
SEQUENCE:3
DTSTAMP:20260421T132731Z
URL:https://members.rutlandvermont.com/events/details/vfw-post-648-rutland-burger-night-queen-of-hearts-drawing-open-to-public-9823
END:VEVENT

END:VCALENDAR
