BEGIN:VCALENDAR
VERSION:2.0
PRODID:-//ChamberMaster//Event Calendar 2.0//EN
METHOD:PUBLISH
X-PUBLISHED-TTL:P3D
REFRESH-INTERVAL:P3D
CALSCALE:GREGORIAN
BEGIN:VEVENT
DTSTART:20250620T210000Z
DTEND:20250620T230000Z
X-MICROSOFT-CDO-ALLDAYEVENT:FALSE
SUMMARY:VFW Post 648 Rutland\, Wing Night & Queen of Hearts Drawing OPEN TO PUBLIC
DESCRIPTION:Wings & Queen of Hearts drawing at 6pm Menu: Boneless Wings $1.00 ea\, Also Available on menu: Chicken Tenders\, French Fries\, Fried: Onion Rings\, Mozzarella Sticks\, Zucchini Sticks Mushrooms\, & Shrimp. Philly Egg rolls!\n\n\n\nWings & Queen of Hearts Drawing at 6pm
X-ALT-DESC;FMTTYPE=text/html:<span style="color: rgb(55\, 65\, 81)\; font-family: ui-sans-serif\, system-ui\, -apple-system\, BlinkMacSystemFont\, &quot\;Segoe UI&quot\;\, Roboto\, &quot\;Helvetica Neue&quot\;\, Arial\, &quot\;Noto Sans&quot\;\, sans-serif\, &quot\;Apple Color Emoji&quot\;\, &quot\;Segoe UI Emoji&quot\;\, &quot\;Segoe UI Symbol&quot\;\, &quot\;Noto Color Emoji&quot\;\; font-size: 16px\; white-space-collapse: preserve\;">Wings &amp\; Queen of Hearts drawing at 6pm Menu: Boneless Wings $1.00 ea\, Also Available on menu: Chicken Tenders\, French Fries\, Fried: Onion Rings\, Mozzarella Sticks\, Zucchini Sticks Mushrooms\, &amp\; Shrimp. Philly Egg rolls!</span><br />\n<br />\n<span style="color: rgb(17\, 24\, 39)\; font-family: ui-sans-serif\, system-ui\, -apple-system\, BlinkMacSystemFont\, &quot\;Segoe UI&quot\;\, Roboto\, &quot\;Helvetica Neue&quot\;\, Arial\, &quot\;Noto Sans&quot\;\, sans-serif\, &quot\;Apple Color Emoji&quot\;\, &quot\;Segoe UI Emoji&quot\;\, &quot\;Segoe UI Symbol&quot\;\, &quot\;Noto Color Emoji&quot\;\; font-size: 16px\; font-weight: 600\;">Wings &amp\; Queen of Hearts Drawing at 6pm</span>
LOCATION:VFW Post 648-Rutland 15 Wales Street Rutland 05701
UID:e.3464.9782
SEQUENCE:3
DTSTAMP:20260421T132707Z
URL:https://members.rutlandvermont.com/events/details/vfw-post-648-rutland-wing-night-queen-of-hearts-drawing-open-to-public-9782
END:VEVENT

END:VCALENDAR
