BEGIN:VCALENDAR
VERSION:2.0
PRODID:-//ChamberMaster//Event Calendar 2.0//EN
METHOD:PUBLISH
X-PUBLISHED-TTL:P3D
REFRESH-INTERVAL:P3D
CALSCALE:GREGORIAN
BEGIN:VEVENT
DTSTART:20250701T233000Z
DTEND:20250702T020000Z
X-MICROSOFT-CDO-ALLDAYEVENT:FALSE
SUMMARY:VSO’s Summer Festival Tour: Summer of Love
DESCRIPTION:A dynamic program with works from across the world and a range of genres\, Summer of Love includes pieces from Tchaikovsky's Romeo and Juliet\, John Williams' Star Wars Theme\, Leonard Bernstein's West Side Story\, and pop hits such as "I Put A Spell On You" and "Nature Boy." The VSO also welcomes mezzo Nikola Printz as the tour's special guest vocalist.\n\nAn annual VSO tradition\, the Summer Festival Tour celebrates music\, community\, and the summer season. This year's tour will take place from July 1-6\, 2025 in the following locations: Castleton\, Grafton\, East Burke\, South Pomfret\, Shelburne\, and Stowe. All locations will include VSO's Musical Petting Zoo where the audience can explore a variety of orchestral instruments\, available before the performances. Doors open at 5:30 for picnicking\, music starts at 7:30.\n\nPROGRAM:\n\n\n	Frances Scott Key   The Star-Spangled Banner\n	Leonard Bernstein/Mason   West Side Story Selections\n	Franz Leh r  Meine Lippen sie k ssen so hei \n	Georges Bizet   Habanera from "Carmen"\n	Piotr Ilyich Tchaikovsky   Romeo and Juliet Fantasy Overture\n\n\nINTERMISSION\n\n\n	Lalo Schifrin   Tango de Atardecer\n	John Williams   Across the Stars Love Theme from Star Wars Episode II\n	Heitor Villa-Lobos/Krance   Bachianas Brasileiras No. 5\n	Nat King Cole/De Vol   Nature Boy\n	Nina Simone/McKenzie   I Put a Spell on You\n	John Philip Sousa   Our Flirtation\n	John Philip Sousa   Stars and Stripes Forever
X-ALT-DESC;FMTTYPE=text/html:<p style="box-sizing: border-box\; margin: 0px 0px 10px\; font-family: sans-serif\; line-height: 1.4em\; color: rgb(0\, 0\, 0)\; font-size: 17px\;">A dynamic program with works from across the world and a range of genres\,&nbsp\;<em style="box-sizing: border-box\;">Summer of Love</em>&nbsp\;includes pieces from Tchaikovsky&rsquo\;s Romeo and Juliet\, John Williams&rsquo\; Star Wars Theme\, Leonard Bernstein&rsquo\;s West Side Story\, and pop hits such as &ldquo\;I Put A Spell On You&rdquo\; and &ldquo\;Nature Boy.&rdquo\; The VSO also welcomes mezzo Nikola Printz as the tour&rsquo\;s special guest vocalist.</p>\n\n<p style="box-sizing: border-box\; margin: 0px 0px 10px\; font-family: sans-serif\; line-height: 1.4em\; color: rgb(0\, 0\, 0)\; font-size: 17px\;">An annual VSO tradition\, the Summer Festival Tour celebrates music\, community\, and the summer season. This year&rsquo\;s tour will take place from July 1-6\, 2025 in the following locations: Castleton\, Grafton\, East Burke\, South Pomfret\, Shelburne\, and Stowe. All locations will include VSO&rsquo\;s Musical Petting Zoo where the audience can explore a variety of orchestral instruments\, available before the performances. Doors open at 5:30 for picnicking\, music starts at 7:30.</p>\n\n<p style="box-sizing: border-box\; margin: 0px 0px 10px\; font-family: sans-serif\; line-height: 1.4em\; color: rgb(0\, 0\, 0)\; font-size: 17px\;"><strong style="box-sizing: border-box\; font-weight: bold\;">PROGRAM</strong>:</p>\n\n<ul style="box-sizing: border-box\; margin-top: 0px\; margin-bottom: 12px\; color: rgb(0\, 0\, 0)\; font-family: Aller\, Helvetica\, Arial\, sans-serif\; font-size: 17px\;">\n	<li style="box-sizing: border-box\; font-family: sans-serif\;">Frances Scott Key &ndash\; The Star-Spangled Banner</li>\n	<li style="box-sizing: border-box\; font-family: sans-serif\;">Leonard Bernstein/Mason &ndash\; West Side Story Selections</li>\n	<li style="box-sizing: border-box\; font-family: sans-serif\;">Franz Leh&aacute\;r&ndash\; Meine Lippen sie k&uuml\;ssen so hei&szlig\;</li>\n	<li style="box-sizing: border-box\; font-family: sans-serif\;">Georges Bizet &ndash\; Habanera from &ldquo\;Carmen&rdquo\;</li>\n	<li style="box-sizing: border-box\; font-family: sans-serif\;">Piotr Ilyich Tchaikovsky &ndash\; Romeo and Juliet Fantasy Overture</li>\n</ul>\n\n<p style="box-sizing: border-box\; margin: 0px 0px 10px\; font-family: sans-serif\; line-height: 1.4em\; color: rgb(0\, 0\, 0)\; font-size: 17px\;"><em style="box-sizing: border-box\;">INTERMISSION</em></p>\n\n<ul style="box-sizing: border-box\; margin-top: 0px\; margin-bottom: 12px\; color: rgb(0\, 0\, 0)\; font-family: Aller\, Helvetica\, Arial\, sans-serif\; font-size: 17px\;">\n	<li style="box-sizing: border-box\; font-family: sans-serif\;">Lalo Schifrin &ndash\; Tango de Atardecer</li>\n	<li style="box-sizing: border-box\; font-family: sans-serif\;">John Williams &ndash\; Across the Stars Love Theme from Star Wars Episode II</li>\n	<li style="box-sizing: border-box\; font-family: sans-serif\;">Heitor Villa-Lobos/Krance &ndash\; Bachianas Brasileiras No. 5</li>\n	<li style="box-sizing: border-box\; font-family: sans-serif\;">Nat King Cole/De Vol &ndash\; Nature Boy</li>\n	<li style="box-sizing: border-box\; font-family: sans-serif\;">Nina Simone/McKenzie &ndash\; I Put a Spell on You</li>\n	<li style="box-sizing: border-box\; font-family: sans-serif\;">John Philip Sousa &ndash\; Our Flirtation</li>\n	<li style="box-sizing: border-box\; font-family: sans-serif\;">John Philip Sousa &ndash\; Stars and Stripes Forever</li>\n</ul>\n
LOCATION:Location: Castleton Pavilion 360 South St\, Castleton\, VT 05735
UID:e.3464.9761
SEQUENCE:3
DTSTAMP:20260421T121257Z
URL:https://members.rutlandvermont.com/events/details/vso-s-summer-festival-tour-summer-of-love-9761
END:VEVENT

END:VCALENDAR
