BEGIN:VCALENDAR
VERSION:2.0
PRODID:-//ChamberMaster//Event Calendar 2.0//EN
METHOD:PUBLISH
X-PUBLISHED-TTL:P3D
REFRESH-INTERVAL:P3D
CALSCALE:GREGORIAN
BEGIN:VEVENT
DTSTART:20250628T150000Z
DTEND:20250628T170000Z
X-MICROSOFT-CDO-ALLDAYEVENT:FALSE
SUMMARY:Watercolor Class for Beginners
DESCRIPTION:Kara Boulden (www.karadraws.com)\n\nSign up here: kaleidoscopeartsupply.square.site\n\nJoin Kara as she guides you through a beginner watercolor class and create simple flowers and little birds. All supplies included or bring some of your favorites from home! Ages 9-99
X-ALT-DESC;FMTTYPE=text/html:Kara Boulden (www.karadraws.com)<br />\nSign up here: kaleidoscopeartsupply.square.site<br />\n<span style="color: rgb(0\, 0\, 0)\; font-family: Poppins\; font-size: 14px\;">Join Kara as she guides you through a beginner watercolor class and create simple flowers and little birds. All supplies included or bring some of your favorites from home! Ages 9-99</span><br />\n&nbsp\;
LOCATION:37 Center Street 2nd Floor Rutland VT 05701 802-417-2295
UID:e.3464.9662
SEQUENCE:3
DTSTAMP:20260421T132023Z
URL:https://members.rutlandvermont.com/events/details/watercolor-class-for-beginners-9662
END:VEVENT

END:VCALENDAR
