BEGIN:VCALENDAR
VERSION:2.0
PRODID:-//ChamberMaster//Event Calendar 2.0//EN
METHOD:PUBLISH
X-PUBLISHED-TTL:P3D
REFRESH-INTERVAL:P3D
CALSCALE:GREGORIAN
BEGIN:VEVENT
DTSTART:20250809T200000Z
DTEND:20250809T220000Z
X-MICROSOFT-CDO-ALLDAYEVENT:FALSE
SUMMARY:Wellness Event with Allen Pools & Spas
DESCRIPTION:Join us for a rejuvenating evening of soaking\, sweating\, swimming\, and plunging designed to boost your wellness journey!\n\nCome test try our hot tubs\, saunas\, pools and cold plunges and feel the benefits.\n\nWhat to Bring:\n\nBathing suits\, sandals\, towels\, robes\, your friends and family! Everyone is invited!\n\nWhat to Expect:\n\nHealthy refreshments\, thank you gifts for all who attend\, recovery you can feel\, better sleep\, mental clarity\, a wellness boost!
X-ALT-DESC;FMTTYPE=text/html:<div class="xdj266r x14z9mp xat24cr x1lziwak x1vvkbs" style="margin: 0px\; overflow-wrap: break-word\; font-family: &quot\;Segoe UI Historic&quot\;\, &quot\;Segoe UI&quot\;\, Helvetica\, Arial\, sans-serif\; color: rgb(5\, 5\, 5)\; font-size: 15px\;">Join us for a rejuvenating evening of soaking\, sweating\, swimming\, and plunging designed to boost your wellness journey!</div>\n\n<div class="x14z9mp xat24cr x1lziwak x1vvkbs xtlvy1s" style="margin: 0.5em 0px 0px\; overflow-wrap: break-word\; font-family: &quot\;Segoe UI Historic&quot\;\, &quot\;Segoe UI&quot\;\, Helvetica\, Arial\, sans-serif\; color: rgb(5\, 5\, 5)\; font-size: 15px\;">Come test try our hot tubs\, saunas\, pools and cold plunges and feel the benefits.</div>\n\n<div class="x14z9mp xat24cr x1lziwak x1vvkbs xtlvy1s" style="margin: 0.5em 0px 0px\; overflow-wrap: break-word\; font-family: &quot\;Segoe UI Historic&quot\;\, &quot\;Segoe UI&quot\;\, Helvetica\, Arial\, sans-serif\; color: rgb(5\, 5\, 5)\; font-size: 15px\;"><strong>What to Bring:</strong><br class="html-br" />\nBathing suits\, sandals\, towels\, robes\, your friends and family! Everyone is invited!</div>\n\n<div class="x14z9mp xat24cr x1lziwak x1vvkbs xtlvy1s" style="margin: 0.5em 0px 0px\; overflow-wrap: break-word\; font-family: &quot\;Segoe UI Historic&quot\;\, &quot\;Segoe UI&quot\;\, Helvetica\, Arial\, sans-serif\; color: rgb(5\, 5\, 5)\; font-size: 15px\;"><strong>What to Expect:</strong><br class="html-br" />\nHealthy refreshments\, thank you gifts for all who attend\, recovery you can feel\, better sleep\, mental clarity\, a wellness boost!&nbsp\;</div>\n
LOCATION:1901 US Route 4 East\, Mendon\, VT\, United States\, Vermont 05701
UID:e.3464.12102
SEQUENCE:3
DTSTAMP:20260421T132324Z
URL:https://members.rutlandvermont.com/events/details/wellness-event-with-allen-pools-spas-12102
END:VEVENT

END:VCALENDAR
