BEGIN:VCALENDAR
VERSION:2.0
PRODID:-//ChamberMaster//Event Calendar 2.0//EN
METHOD:PUBLISH
X-PUBLISHED-TTL:P3D
REFRESH-INTERVAL:P3D
CALSCALE:GREGORIAN
BEGIN:VEVENT
DTSTART:20250628T130000Z
DTEND:20250628T170000Z
X-MICROSOFT-CDO-ALLDAYEVENT:FALSE
SUMMARY:Wells Vintage Wares (and more!)
DESCRIPTION:We're having a large book and tag sale on the green! This is an essential fundraiser. We'll have vintage items as well as some new and gently used. We'll also be celebrating strawberry season with special treats and a bake sale. It's an anything and everything endeavor. So far\, we have books\, golf clubs\, new snowblower\, miter saw\, 1970s wooden baseball bats\, clothes\, plants\, dishes\, new 9 x 12 (approx) area rug\, and more. All proceeds support Wells Village Library. We're seeking additional items\, so please reach out if you would like to donate tools\, housewares\, art\, or something else. Help us make your summer and fall full of fun library programs\, events and resources. It takes a village and ours is wonderful!
X-ALT-DESC;FMTTYPE=text/html:<span style="color: rgb(226\, 229\, 233)\; font-family: &quot\;Segoe UI Historic&quot\;\, &quot\;Segoe UI&quot\;\, Helvetica\, Arial\, sans-serif\; font-size: 15px\; background-color: rgb(37\, 39\, 40)\;">We&#39\;re having a large book and tag sale on the green! This is an essential fundraiser. We&#39\;ll have vintage items as well as some new and gently used. We&#39\;ll also be celebrating strawberry season with special treats and a bake sale. It&#39\;s an anything and everything endeavor. So far\, we have books\, golf clubs\, new snowblower\, miter saw\, 1970s wooden baseball bats\, clothes\, plants\, dishes\, new 9 x 12 (approx) area rug\, and more. All proceeds support Wells Village Library. We&#39\;re seeking additional items\, so please reach out if you would like to donate tools\, housewares\, art\, or something else. Help us make your summer and fall full of fun library programs\, events and resources. It takes a village and ours is wonderful!</span>
LOCATION:37 East Wells Road Wells\, VT
UID:e.3464.10315
SEQUENCE:3
DTSTAMP:20260421T132408Z
URL:https://members.rutlandvermont.com/events/details/wells-vintage-wares-and-more-10315
END:VEVENT

END:VCALENDAR
