BEGIN:VCALENDAR
VERSION:2.0
PRODID:-//ChamberMaster//Event Calendar 2.0//EN
METHOD:PUBLISH
X-PUBLISHED-TTL:P3D
REFRESH-INTERVAL:P3D
CALSCALE:GREGORIAN
BEGIN:VEVENT
DTSTART:20250621T180000Z
DTEND:20250622T013000Z
X-MICROSOFT-CDO-ALLDAYEVENT:FALSE
SUMMARY:Whitehall Festival & Fireworks 2025
DESCRIPTION:The Whitehall Festival will be Sat. June 21st\, 2025\, from 2-9:30. Fireworks will begin at 9:30pm. For vendor info please email: lauren.scott@cbna.com. Games\, prizes\, raffles\, and fun for everyone! It's the kickoff to summer event!
X-ALT-DESC;FMTTYPE=text/html:The Whitehall Festival will be Sat. June 21st\, 2025\, from 2-9:30. Fireworks will begin at 9:30pm. For vendor info please email: lauren.scott@cbna.com. Games\, prizes\, raffles\, and fun for everyone! It&#39\;s the kickoff to summer event!
LOCATION:Whitehall Festival and Whitehall Chamber 130 Main Street Whitehall\, NY 12887
UID:e.3464.11994
SEQUENCE:3
DTSTAMP:20260421T132407Z
URL:https://members.rutlandvermont.com/events/details/whitehall-festival-fireworks-2025-11994
END:VEVENT

END:VCALENDAR
