BEGIN:VCALENDAR
VERSION:2.0
PRODID:-//ChamberMaster//Event Calendar 2.0//EN
METHOD:PUBLISH
X-PUBLISHED-TTL:P3D
REFRESH-INTERVAL:P3D
CALSCALE:GREGORIAN
BEGIN:VEVENT
DTSTART:20250719T220000Z
DTEND:20250720T100000Z
X-MICROSOFT-CDO-ALLDAYEVENT:FALSE
SUMMARY:Wilson Castle Overnight Paranormal Camping Experience
DESCRIPTION:Join us overnight and investigate Wilson Castle! Includes cook out style dinner\, snacks\, soft drinks\, paranormal equipment and unlimited investigation time!
X-ALT-DESC;FMTTYPE=text/html:Join us overnight and investigate Wilson Castle! Includes cook out style dinner\, snacks\, soft drinks\, paranormal equipment and unlimited investigation time!
LOCATION:Wilson Castleton Proctor\, VT
UID:e.3464.11989
SEQUENCE:3
DTSTAMP:20260421T120049Z
URL:https://members.rutlandvermont.com/events/details/wilson-castle-overnight-paranormal-camping-experience-11989
END:VEVENT

END:VCALENDAR
