BEGIN:VCALENDAR
VERSION:2.0
PRODID:-//ChamberMaster//Event Calendar 2.0//EN
METHOD:PUBLISH
X-PUBLISHED-TTL:P3D
REFRESH-INTERVAL:P3D
CALSCALE:GREGORIAN
BEGIN:VEVENT
DTSTART:20220312T150000Z
DTEND:20220312T190000Z
X-MICROSOFT-CDO-ALLDAYEVENT:FALSE
SUMMARY:Winter Farmers Market
DESCRIPTION:The Vermont Farmers Market is one of the largest and most diverse farmers markets in Vermont\, and the first to operate 52 weeks out of the year. We bring together as many as 60 vendors from Vermont and Washington County\, NY.
X-ALT-DESC;FMTTYPE=text/html:<span style="color: rgb(5\, 5\, 5)\; font-family: &quot\;Segoe UI Historic&quot\;\, &quot\;Segoe UI&quot\;\, Helvetica\, Arial\, sans-serif\; font-size: 15px\;">The Vermont Farmers Market is one of the largest and most diverse farmers markets in Vermont\, and the first to operate 52 weeks out of the year. We bring together as many as 60 vendors from Vermont and Washington County\, NY.</span>
LOCATION:Cortina Inn\, 476 Holiday Dr.\, Rutland
UID:e.3464.6147
SEQUENCE:3
DTSTAMP:20260420T102343Z
URL:https://members.rutlandvermont.com/events/details/winter-farmers-market-03-12-2022-6147
END:VEVENT

END:VCALENDAR
