BEGIN:VCALENDAR
VERSION:2.0
PRODID:-//ChamberMaster//Event Calendar 2.0//EN
METHOD:PUBLISH
X-PUBLISHED-TTL:P3D
REFRESH-INTERVAL:P3D
CALSCALE:GREGORIAN
BEGIN:VEVENT
DTSTART:20250730T220000Z
DTEND:20250731T000000Z
X-MICROSOFT-CDO-ALLDAYEVENT:FALSE
SUMMARY:Women's Wednesday Group Mountain Bike Rides
DESCRIPTION:Join us each Wednesday night this summer for our weekly Women's Mountain Bike Group Rides!\n\nRide with an amazing group of women on our beautiful SVT trail network. This is a no drop ride and ALL ARE WELCOME. We will honor an inclusive and supportive environment for ALL!
X-ALT-DESC;FMTTYPE=text/html:Join us each Wednesday night this summer for our weekly Women's Mountain Bike Group Rides!<br>\nRide with an amazing group of women on our beautiful SVT trail network. This is a no drop ride and ALL ARE WELCOME. We will honor an inclusive and supportive environment for ALL!<br>\n<br>\n&nbsp\;
LOCATION:MEETING LOCATION: We will meet at the Fairgrounds Trailhead every week. Distance/Difficulty: Varying distances 6-10 miles. Terrain will involve climbing. We will break into groups from beginner to intermediate/advanced and be able to accommodate any rider of varying pace and experience. Bring: plenty of water\, snacks\, and an after-ride beverage. Extreme weather and downpours will cancel! Check back on this events page for updates/cancellations.
UID:e.3464.11983
SEQUENCE:3
DTSTAMP:20260421T121156Z
URL:https://members.rutlandvermont.com/events/details/women-s-wednesday-group-mountain-bike-rides-07-30-2025-11983
END:VEVENT

END:VCALENDAR
