BEGIN:VCALENDAR
VERSION:2.0
PRODID:-//ChamberMaster//Event Calendar 2.0//EN
METHOD:PUBLISH
X-PUBLISHED-TTL:P3D
REFRESH-INTERVAL:P3D
CALSCALE:GREGORIAN
BEGIN:VEVENT
DTSTART:20250811T210000Z
DTEND:20250811T230000Z
X-MICROSOFT-CDO-ALLDAYEVENT:FALSE
SUMMARY:Yappie Hour @ The Equinox
DESCRIPTION:Mondays are for the Dogs at The Equinox\n\nCalling all pups and their people to weekly Yappie Hour at Falcon Bar & Patio! Start the week off right with tails wagging and cocktails flowing at our weekly Yappie Hour where four-legged guests are VIPs.\n\nPup-Tails & Pours:\n\nSignature mocktails for dogs\n\nHalf-priced specialty cocktails and local drafts for humans\n\nCanine Charcuterie Station:\n\nGourmet dog treats\, mini bones\, and dog-safe "barkuterie" boards\n\nPup-arazzi Photo Spot:\n\nEquinox "dog house" backdrop with fun props for photo opp\n\nPhoto contest each week: Best pose wins a doggie swag bag\n\nTreat & Toy Raffle:\n\nBring your pup = get entered to win a weekly prize with local pet supplier and The Equinox\n\nStay & Sit Special:\n\nMake it an overnight staycation with your four-legged friend when you book our Paws Up Pet Package
X-ALT-DESC;FMTTYPE=text/html:<strong>Mondays are for the Dogs at The Equinox</strong><br />\nCalling all pups and their people to weekly Yappie Hour at Falcon Bar &amp\; Patio! Start the week off right with tails wagging and cocktails flowing at our weekly Yappie Hour&mdash\;where four-legged guests are VIPs.<br />\n<strong>Pup-Tails &amp\; Pours:</strong><br />\nSignature mocktails for dogs<br />\nHalf-priced specialty cocktails and local drafts for humans<br />\n<strong>Canine Charcuterie Station:</strong><br />\nGourmet dog treats\, mini bones\, and dog-safe &ldquo\;barkuterie&rdquo\; boards<br />\n<strong>Pup-arazzi Photo Spot:</strong><br />\nEquinox &ldquo\;dog house&rdquo\; backdrop with fun props for photo opp<br />\nPhoto contest each week: Best pose wins a doggie swag bag<br />\n<strong>Treat &amp\; Toy Raffle:</strong><br />\nBring your pup = get entered to win a weekly prize with local pet supplier and The Equinox<br />\n<strong>Stay &amp\; Sit Special:</strong><br />\nMake it an overnight staycation with your four-legged friend when you book our Paws Up Pet Package
LOCATION:The Equinox\, Golf Resort & Spa 3567 Main St\, Manchester\, VT 05254
UID:e.3464.12073
SEQUENCE:3
DTSTAMP:20260421T132536Z
URL:https://members.rutlandvermont.com/events/details/yappie-hour-the-equinox-08-11-2025-12073
END:VEVENT

END:VCALENDAR
