BEGIN:VCALENDAR
VERSION:2.0
PRODID:-//ChamberMaster//Event Calendar 2.0//EN
METHOD:PUBLISH
X-PUBLISHED-TTL:P3D
REFRESH-INTERVAL:P3D
CALSCALE:GREGORIAN
BEGIN:VEVENT
DTSTART:20250628T130000Z
DTEND:20250628T190000Z
X-MICROSOFT-CDO-ALLDAYEVENT:FALSE
SUMMARY:Yard Sale At the Elks
DESCRIPTION:We are 'hosting' a YARD SALE. Tables for $10 each (maximum of 3 tables per person). Weather permitting will be in the parking lot\, if not will be in main hall. To reserve a table email bpoelks345@gmail.com with YARD SALE in the subject line. Please provide your name and phone number. More details forthcoming!
X-ALT-DESC;FMTTYPE=text/html:<span style="color: rgb(226\, 229\, 233)\; font-family: &quot\;Segoe UI Historic&quot\;\, &quot\;Segoe UI&quot\;\, Helvetica\, Arial\, sans-serif\; font-size: 15px\; background-color: rgb(37\, 39\, 40)\;">We are &#39\;hosting&#39\; a YARD SALE. Tables for $10 each (maximum of 3 tables per person). Weather permitting will be in the parking lot\, if not will be in main hall. To reserve a table email bpoelks345@gmail.com with YARD SALE in the subject line. Please provide your name and phone number. More details forthcoming!</span>
LOCATION:Elks Lodge #345 44 Pleasant Street Rutland VT 05701
UID:e.3464.10305
SEQUENCE:3
DTSTAMP:20260421T132313Z
URL:https://members.rutlandvermont.com/events/details/yard-sale-at-the-elks-10305
END:VEVENT

END:VCALENDAR
