BEGIN:VCALENDAR
VERSION:2.0
PRODID:-//ChamberMaster//Event Calendar 2.0//EN
METHOD:PUBLISH
X-PUBLISHED-TTL:P3D
REFRESH-INTERVAL:P3D
CALSCALE:GREGORIAN
BEGIN:VEVENT
DTSTART:20250625T200000Z
DTEND:20250625T210000Z
X-MICROSOFT-CDO-ALLDAYEVENT:FALSE
SUMMARY:Yoga for Kids
DESCRIPTION:Learn yoga poses and breathing techniques through a variety of songs\, games\, and activities!\n\nJoin Tiny Trees Yoga for a program that incorporates mindfulness\, music\, and movement throughout every class. All ages are welcome but these session will be most appropriate for kiddos ages 5+.\n\nWe'll provide mats and everything else that you need!\n\n\n\nNo Registration Needed
X-ALT-DESC;FMTTYPE=text/html:<p style="margin: 0px 0px 1em\; padding: 0px\; box-sizing: border-box\; line-height: 1.5\; color: rgb(0\, 0\, 0)\; font-family: georgia\; font-size: 16px\;">Learn yoga poses and breathing techniques through a variety of songs\, games\, and activities!</p>\n\n<p style="margin: 0px 0px 1em\; padding: 0px\; box-sizing: border-box\; line-height: 1.5\; color: rgb(0\, 0\, 0)\; font-family: georgia\; font-size: 16px\;">Join Tiny Trees Yoga for a program that incorporates mindfulness\, music\, and movement throughout every class. All ages are welcome but these session will be most appropriate for kiddos ages 5+.</p>\n\n<p style="margin: 0px 0px 1em\; padding: 0px\; box-sizing: border-box\; line-height: 1.5\; color: rgb(0\, 0\, 0)\; font-family: georgia\; font-size: 16px\;">We&#39\;ll provide mats and everything else that you need!<br />\n<br />\nNo Registration Needed</p>\n
LOCATION:Fox Room Rutland Free Library10 Court St \, Rutland \, VT\, 05701
UID:e.3464.10092
SEQUENCE:3
DTSTAMP:20260421T132158Z
URL:https://members.rutlandvermont.com/events/details/yoga-for-kids-10092
END:VEVENT

END:VCALENDAR
