BEGIN:VCALENDAR
VERSION:2.0
PRODID:-//ChamberMaster//Event Calendar 2.0//EN
METHOD:PUBLISH
X-PUBLISHED-TTL:P3D
REFRESH-INTERVAL:P3D
CALSCALE:GREGORIAN
BEGIN:VEVENT
DTSTART:20250715T163000Z
DTEND:20250715T174500Z
X-MICROSOFT-CDO-ALLDAYEVENT:FALSE
SUMMARY:Yomassage Class
DESCRIPTION:This will be an incredible way to start the week. This amazing 75-minute class 'treatment' combo experience includes Restorative Yoga and Massage\, $40. Register at PetrasWellnessStudio@gmail.com\n\n\n\nRutland \, Vermont
X-ALT-DESC;FMTTYPE=text/html:This will be an incredible way to start the week. This amazing 75-minute class &#39\;treatment&#39\; combo experience includes Restorative Yoga and Massage\, $40. Register at PetrasWellnessStudio@gmail.com<br />\n<br />\n<strong><a href="https://www.facebook.com/events/explore/rutland-vermont/113279162020429/">Rutland \, Vermont</a></strong><br />\n&nbsp\;<br />\n&nbsp\;
LOCATION:Dana Center 41 East Center Street Rutland VT 05701
UID:e.3464.11979
SEQUENCE:3
DTSTAMP:20260421T114638Z
URL:https://members.rutlandvermont.com/events/details/yomassage-class-11979
END:VEVENT

END:VCALENDAR
