BEGIN:VCALENDAR
VERSION:2.0
PRODID:-//ChamberMaster//Event Calendar 2.0//EN
METHOD:PUBLISH
X-PUBLISHED-TTL:P3D
REFRESH-INTERVAL:P3D
CALSCALE:GREGORIAN
BEGIN:VEVENT
DTSTART:20250620T193000Z
DTEND:20250620T201500Z
X-MICROSOFT-CDO-ALLDAYEVENT:FALSE
SUMMARY:Zumba (Kids & Kids Jr)
DESCRIPTION:Zumba  Kids & Kids Jr combined! Geared for kids ages 4-11. \n\nJoin us for a dance party with kid-friendly routines and choreography! We'll play games\, listen to great music\, learn some new moves\, and do activities during this high-energy program. Don't forget your water bottle and good shoes!
X-ALT-DESC;FMTTYPE=text/html:<p style="margin: 0px 0px 1em\; padding: 0px\; box-sizing: border-box\; line-height: 1.5\; color: rgb(0\, 0\, 0)\; font-family: georgia\; font-size: 16px\;">Zumba&reg\; Kids &amp\; Kids Jr combined! Geared for kids ages 4-11.&nbsp\;</p>\n\n<p style="margin: 0px 0px 1em\; padding: 0px\; box-sizing: border-box\; line-height: 1.5\; color: rgb(0\, 0\, 0)\; font-family: georgia\; font-size: 16px\;">Join us for a dance party with kid-friendly routines and choreography! We&#39\;ll play games\, listen to great music\, learn some new moves\, and do activities during this high-energy program. Don&#39\;t forget your water bottle and good shoes!</p>\n
LOCATION:Fox Room Rutland Free Library10 Court St \, Rutland \, VT\, 05701
UID:e.3464.10088
SEQUENCE:3
DTSTAMP:20260421T132342Z
URL:https://members.rutlandvermont.com/events/details/zumba-kids-kids-jr-10088
END:VEVENT

END:VCALENDAR
