BEGIN:VCALENDAR
VERSION:2.0
PRODID:-//ChamberMaster//Event Calendar 2.0//EN
METHOD:PUBLISH
X-PUBLISHED-TTL:P3D
REFRESH-INTERVAL:P3D
CALSCALE:GREGORIAN
BEGIN:VEVENT
DTSTART:20250627T140000Z
DTEND:20250628T024500Z
X-MICROSOFT-CDO-ALLDAYEVENT:FALSE
SUMMARY:Zumba (Kids & Kids Jr)
DESCRIPTION:Zumba  Kids & Kids Jr combined! Geared for kids ages 4-11.\n\nJoin us for a dance party with kid-friendly routines and choreography! We'll play games\, listen to great music\, learn some new moves\, and do activities during this high-energy program. Don't forget your water bottle and good shoes!\n\n\n\nNo Registration Required
X-ALT-DESC;FMTTYPE=text/html:<div class="event-description wysiwyg cf" style="margin: 0px 0px 1em\; padding: 0px\; box-sizing: border-box\; zoom: 1\; line-height: 1.5\; position: relative\; font-family: georgia\; color: rgb(0\, 0\, 0)\; font-size: 16px\;">\n<p style="margin: 0px 0px 1em\; padding: 0px\; box-sizing: border-box\; line-height: 1.5\;">Zumba&reg\; Kids &amp\; Kids Jr combined! Geared for kids ages 4-11.</p>\n\n<p style="margin: 0px 0px 1em\; padding: 0px\; box-sizing: border-box\; line-height: 1.5\;">Join us for a dance party with kid-friendly routines and choreography! We&#39\;ll play games\, listen to great music\, learn some new moves\, and do activities during this high-energy program. Don&#39\;t forget your water bottle and good shoes!</p>\n</div>\n\n<div class="event-registration-information" style="margin: 0px\; padding: 1em 0px\; box-sizing: border-box\; border-top: 1px solid rgb(209\, 211\, 212)\; color: rgb(0\, 0\, 0)\; font-family: &quot\;Source Sans 3&quot\;\, tahoma\, arial\, sans-serif\; font-size: 16px\;">\n<p class="event-registration-not-required" style="margin: 0px 0px 1em\; padding: 0px\; box-sizing: border-box\; line-height: 1.5\;">No Registration Required</p>\n</div>\n
LOCATION:Fox Room Rutland Free Library10 Court St \, Rutland \, VT\, 05701
UID:e.3464.10093
SEQUENCE:3
DTSTAMP:20260421T132343Z
URL:https://members.rutlandvermont.com/events/details/zumba-kids-kids-jr-10093
END:VEVENT

END:VCALENDAR
